BEGIN:VCALENDAR
VERSION:2.0
PRODID:Events Booking
BEGIN:VEVENT
UID:69ea85187e2c5
SUMMARY:Ultimate Frog Challenge 12
DESCRIPTION:
DTSTART:20260725T120000Z
DTEND:20260727T000000Z
DTSTAMP:20240224T012155Z
ORGANIZER;CN=anglerspress@hotmail.com:MAILTO:anglerspress@hotmail.com
END:VEVENT
END:VCALENDAR