BEGIN:VCALENDAR
VERSION:2.0
PRODID:Events Booking
BEGIN:VEVENT
UID:69ea85bb3c34f
SUMMARY:2025 FPT Top-75 Classic Championship
DESCRIPTION:
 High-Roller - Option: $120
 Big Fish - Option: $40
 Banque
 t Dinner (per person): $55 - (RSVP Dinner payment must be made by Sept 15t
 h)
 
DTSTART:20251004T120000Z
DTEND:20251006T000000Z
DTSTAMP:20240718T060703Z
ORGANIZER;CN=anglerspress@hotmail.com:MAILTO:anglerspress@hotmail.com
END:VEVENT
END:VCALENDAR